BEGIN:VCALENDAR
VERSION:2.0
PRODID:-//Essex Sports Complex - ECPv6.15.15//NONSGML v1.0//EN
CALSCALE:GREGORIAN
METHOD:PUBLISH
X-WR-CALNAME:Essex Sports Complex
X-ORIGINAL-URL:https://essexsportscomplex.com
X-WR-CALDESC:Events for Essex Sports Complex
REFRESH-INTERVAL;VALUE=DURATION:PT1H
X-Robots-Tag:noindex
X-PUBLISHED-TTL:PT1H
BEGIN:VTIMEZONE
TZID:America/Denver
BEGIN:DAYLIGHT
TZOFFSETFROM:-0700
TZOFFSETTO:-0600
TZNAME:MDT
DTSTART:20250309T090000
END:DAYLIGHT
BEGIN:STANDARD
TZOFFSETFROM:-0600
TZOFFSETTO:-0700
TZNAME:MST
DTSTART:20251102T080000
END:STANDARD
BEGIN:DAYLIGHT
TZOFFSETFROM:-0700
TZOFFSETTO:-0600
TZNAME:MDT
DTSTART:20260308T090000
END:DAYLIGHT
BEGIN:STANDARD
TZOFFSETFROM:-0600
TZOFFSETTO:-0700
TZNAME:MST
DTSTART:20261101T080000
END:STANDARD
BEGIN:DAYLIGHT
TZOFFSETFROM:-0700
TZOFFSETTO:-0600
TZNAME:MDT
DTSTART:20270314T090000
END:DAYLIGHT
BEGIN:STANDARD
TZOFFSETFROM:-0600
TZOFFSETTO:-0700
TZNAME:MST
DTSTART:20271107T080000
END:STANDARD
END:VTIMEZONE
BEGIN:VEVENT
DTSTART;VALUE=DATE:20260301
DTEND;VALUE=DATE:20260302
DTSTAMP:20260422T194404
CREATED:20260211T164421Z
LAST-MODIFIED:20260211T213318Z
UID:10000001-1772323200-1772409599@essexsportscomplex.com
SUMMARY:Quisque Quis Neque
DESCRIPTION:Aenean at finibus orci. Donec scelerisque libero quis molestie eleifend. Sed ante ipsum\, eleifend ac nunc aliquet\, dapibus cursus turpis. Integer ultrices\, ligula at sodales cursus\, quam purus hendrerit ipsum\, nec eleifend sapien tellus nec massa. Phasellus in nulla lorem. Proin pellentesque in libero pulvinar aliquet.
URL:https://essexsportscomplex.com/event/quisque-quis-neque/
ATTACH;FMTTYPE=image/png:https://essexsportscomplex.com/wp-content/uploads/2026/02/imgi_2_IMG_6602-1024x766-1.png
END:VEVENT
END:VCALENDAR